BEGIN:VCALENDAR
VERSION:2.0
PRODID:-//Ridgefield Democratic Town Committee - ECPv6.15.20//NONSGML v1.0//EN
CALSCALE:GREGORIAN
METHOD:PUBLISH
X-ORIGINAL-URL:https://ridgefielddems.net
X-WR-CALDESC:Events for Ridgefield Democratic Town Committee
REFRESH-INTERVAL;VALUE=DURATION:PT1H
X-Robots-Tag:noindex
X-PUBLISHED-TTL:PT1H
BEGIN:VTIMEZONE
TZID:America/New_York
BEGIN:DAYLIGHT
TZOFFSETFROM:-0500
TZOFFSETTO:-0400
TZNAME:EDT
DTSTART:20250309T070000
END:DAYLIGHT
BEGIN:STANDARD
TZOFFSETFROM:-0400
TZOFFSETTO:-0500
TZNAME:EST
DTSTART:20251102T060000
END:STANDARD
BEGIN:DAYLIGHT
TZOFFSETFROM:-0500
TZOFFSETTO:-0400
TZNAME:EDT
DTSTART:20260308T070000
END:DAYLIGHT
BEGIN:STANDARD
TZOFFSETFROM:-0400
TZOFFSETTO:-0500
TZNAME:EST
DTSTART:20261101T060000
END:STANDARD
BEGIN:DAYLIGHT
TZOFFSETFROM:-0500
TZOFFSETTO:-0400
TZNAME:EDT
DTSTART:20270314T070000
END:DAYLIGHT
BEGIN:STANDARD
TZOFFSETFROM:-0400
TZOFFSETTO:-0500
TZNAME:EST
DTSTART:20271107T060000
END:STANDARD
END:VTIMEZONE
BEGIN:VEVENT
DTSTART;TZID=America/New_York:20260312T193000
DTEND;TZID=America/New_York:20260312T210000
DTSTAMP:20260424T211848
CREATED:20260116T223445Z
LAST-MODIFIED:20260116T223451Z
UID:15911-1773343800-1773349200@ridgefielddems.net
SUMMARY:DTC Monthly Meeting - Mar 2026
DESCRIPTION:
URL:https://ridgefielddems.net/event/dtc-monthly-meeting-mar-2026/
LOCATION:Town Hall – Lower Level Large Conference Room\, 400 Main St\, Ridgefield\, Connecticut\, 06877\, United States
ORGANIZER;CN="Ridgefield Democratic Town Committee":MAILTO:communications@ridgefielddems.org
END:VEVENT
BEGIN:VEVENT
DTSTART;TZID=America/New_York:20260328T130000
DTEND;TZID=America/New_York:20260328T140000
DTSTAMP:20260424T211848
CREATED:20260325T004443Z
LAST-MODIFIED:20260325T013416Z
UID:16002-1774702800-1774706400@ridgefielddems.net
SUMMARY:No Kings 2026 - Ridgefield & Danbury
DESCRIPTION:(Danbury: March 28\, 3-5pm) \n\n\n\nWhy go to one rally when you can go to two? \n\n\n\nAfter the Ridgefield No Kings Rally\, keep the momentum going and head over to Danbury. Gathering begins at 3 PM. Then stay\, grab a bite to eat in support of Danbury Dining For Justice\, and connect with others. \n\n\n\nA full day of action! \n\n\n\n\n\nRidgefield \n\n\n\n\n\n\n\n\nRegister for Ridgefield\n\n\n\n\n\n\nDanbury \n\n\n\n\n\n\n\n\nRegister for Danbury
URL:https://ridgefielddems.net/event/no-kings-2026/
END:VEVENT
BEGIN:VEVENT
DTSTART;TZID=America/New_York:20260409T193000
DTEND;TZID=America/New_York:20260409T210000
DTSTAMP:20260424T211848
CREATED:20260325T002920Z
LAST-MODIFIED:20260325T002921Z
UID:15996-1775763000-1775768400@ridgefielddems.net
SUMMARY:DTC Monthly Meeting - Apr 2026
DESCRIPTION:
URL:https://ridgefielddems.net/event/dtc-monthly-meeting-apr-2026/
LOCATION:Town Hall – Lower Level Large Conference Room\, 400 Main St\, Ridgefield\, Connecticut\, 06877\, United States
ORGANIZER;CN="Ridgefield Democratic Town Committee":MAILTO:communications@ridgefielddems.org
END:VEVENT
BEGIN:VEVENT
DTSTART;TZID=America/New_York:20260426T130000
DTEND;TZID=America/New_York:20260426T150000
DTSTAMP:20260424T211848
CREATED:20260328T192323Z
LAST-MODIFIED:20260328T192325Z
UID:16020-1777208400-1777215600@ridgefielddems.net
SUMMARY:Plant Democracy 2026
DESCRIPTION:
URL:https://ridgefielddems.net/event/plant-democracy-2026/
ORGANIZER;CN="Ridgefield Democratic Town Committee":MAILTO:communications@ridgefielddems.org
END:VEVENT
BEGIN:VEVENT
DTSTART;TZID=America/New_York:20260514T193000
DTEND;TZID=America/New_York:20260514T210000
DTSTAMP:20260424T211848
CREATED:20260325T002923Z
LAST-MODIFIED:20260325T002924Z
UID:15997-1778787000-1778792400@ridgefielddems.net
SUMMARY:DTC Monthly Meeting - May 2026
DESCRIPTION:
URL:https://ridgefielddems.net/event/dtc-monthly-meeting-may-2026/
LOCATION:Town Hall – Lower Level Large Conference Room\, 400 Main St\, Ridgefield\, Connecticut\, 06877\, United States
ORGANIZER;CN="Ridgefield Democratic Town Committee":MAILTO:communications@ridgefielddems.org
END:VEVENT
BEGIN:VEVENT
DTSTART;TZID=America/New_York:20260611T193000
DTEND;TZID=America/New_York:20260611T210000
DTSTAMP:20260424T211848
CREATED:20260325T004224Z
LAST-MODIFIED:20260325T004225Z
UID:15998-1781206200-1781211600@ridgefielddems.net
SUMMARY:DTC Monthly Meeting - June 2026
DESCRIPTION:
URL:https://ridgefielddems.net/event/dtc-monthly-meeting-june-2026/
LOCATION:Town Hall – Lower Level Large Conference Room\, 400 Main St\, Ridgefield\, Connecticut\, 06877\, United States
ORGANIZER;CN="Ridgefield Democratic Town Committee":MAILTO:communications@ridgefielddems.org
END:VEVENT
END:VCALENDAR